BEGIN:VCALENDAR
VERSION:2.0
BEGIN:VEVENT
URL:https://learning.campusvygon.com/cursos/neonatal-lung-ultrasound-24000886-24012822?edicion=24000944
DTSTART:20260423T153000
DTEND:20260423T183000
SUMMARY:Campus Vygon - Neonatal Lung Ultrasound Neonatal Lung Ultrasound
DESCRIPTION:Neonatal Lung Ultrasound\n\n
LOCATION:
END:VEVENT
END:VCALENDAR