BEGIN:VCALENDAR
VERSION:2.0
BEGIN:VEVENT
URL:https://learning.campusvygon.com/cursos/gold-option---vyneodays26---facing-neonatal-challenges--how-bundles-drive-safer-and-smarter-pratices--24000924-24012932?edicion=24000982
DTSTART:20261119T080000
DTEND:20261120T190000
SUMMARY:Campus Vygon - GOLD OPTION - VYNEODAYS26 - Facing neonatal challenges: how bundles drive Safer and Smarter Pratices? GOLD OPTION - VYNEODAYS26 - Facing neonatal challenges: how bundles drive Safer and Smarter Pratices?
DESCRIPTION:GOLD OPTION - VYNEODAYS26 - Facing neonatal challenges: how bundles drive Safer and Smarter Pratices?\n\n
LOCATION:Paris
END:VEVENT
END:VCALENDAR