BEGIN:VCALENDAR
VERSION:2.0
BEGIN:VEVENT
URL:https://learning.campusvygon.com/cursos/manejo-avanzado-de-la-nutricion-enteral-segura-para-el-paciente-neonatal-24000913-24012900-24013092?edicion=24001031
DTSTART:20260511T000000
DTEND:20260611T000000
SUMMARY:Campus Vygon - [GLOBAL] Manejo avanzado de la nutrición enteral segura para el paciente neonatal Nutrición enteral segura en neonatología
DESCRIPTION:[GLOBAL] Manejo avanzado de la nutrición enteral segura para el paciente neonatal\n\n
LOCATION:
END:VEVENT
END:VCALENDAR