BEGIN:VCALENDAR
VERSION:2.0
BEGIN:VEVENT
URL:https://learning.campusvygon.com/cursos/silver-option---vyhem-p26---hemodynamics-for-the-tiny-24000975-24013097?edicion=24001033
DTSTART:20261008T133000
DTEND:20261009T130000
SUMMARY:Campus Vygon - SILVER OPTION - VYHEM P26 - Hemodynamics for the tiny 
DESCRIPTION:SILVER OPTION - VYHEM P26 - Hemodynamics for the tiny\n\n
LOCATION:
END:VEVENT
END:VCALENDAR