BEGIN:VCALENDAR
VERSION:2.0
BEGIN:VEVENT
URL:https://learning.campusvygon.com/cursos/gold-option---vyhem-p26---hemodynamics-for-the-tiny-24000976-24013099?edicion=24001034
DTSTART:20261008T133000
DTEND:20261009T130000
SUMMARY:Campus Vygon - GOLD OPTION - VYHEM P26 - Hemodynamics for the tiny 
DESCRIPTION:GOLD OPTION - VYHEM P26 - Hemodynamics for the tiny\n\n
LOCATION:Paris
END:VEVENT
END:VCALENDAR